BEGIN:VCALENDAR
VERSION:2.0
PRODID:-//Thrifty Connections - ECPv6.15.20//NONSGML v1.0//EN
CALSCALE:GREGORIAN
METHOD:PUBLISH
X-WR-CALNAME:Thrifty Connections
X-ORIGINAL-URL:https://thriftyconnections.com
X-WR-CALDESC:Events for Thrifty Connections
REFRESH-INTERVAL;VALUE=DURATION:PT1H
X-Robots-Tag:noindex
X-PUBLISHED-TTL:PT1H
BEGIN:VTIMEZONE
TZID:America/New_York
BEGIN:DAYLIGHT
TZOFFSETFROM:-0500
TZOFFSETTO:-0400
TZNAME:EDT
DTSTART:20250309T070000
END:DAYLIGHT
BEGIN:STANDARD
TZOFFSETFROM:-0400
TZOFFSETTO:-0500
TZNAME:EST
DTSTART:20251102T060000
END:STANDARD
BEGIN:DAYLIGHT
TZOFFSETFROM:-0500
TZOFFSETTO:-0400
TZNAME:EDT
DTSTART:20260308T070000
END:DAYLIGHT
BEGIN:STANDARD
TZOFFSETFROM:-0400
TZOFFSETTO:-0500
TZNAME:EST
DTSTART:20261101T060000
END:STANDARD
BEGIN:DAYLIGHT
TZOFFSETFROM:-0500
TZOFFSETTO:-0400
TZNAME:EDT
DTSTART:20270314T070000
END:DAYLIGHT
BEGIN:STANDARD
TZOFFSETFROM:-0400
TZOFFSETTO:-0500
TZNAME:EST
DTSTART:20271107T060000
END:STANDARD
END:VTIMEZONE
BEGIN:VEVENT
DTSTART;TZID=America/New_York:20260423T180000
DTEND;TZID=America/New_York:20260423T193000
DTSTAMP:20260423T142045
CREATED:20260315T192624Z
LAST-MODIFIED:20260327T194133Z
UID:2328-1776967200-1776972600@thriftyconnections.com
SUMMARY:Beginner Sourdough Baking with Cocoa & Sage April 23rd
DESCRIPTION:Beginner Sourdough Baking with Cocoa & Sage $45.00 \nJoin us for a relaxed\, hands-on class where we’ll explore the magic of sourdough together. \nWe’ll start by demystifying the myths and rules that often make sourdough feel intimidating\, and instead discover how this ancient craft can be simple\, forgiving\, and full of joy. \n What you’ll take home: \n\nYour own live sourdough starter to keep alive and bake with\nA loaf ready to pop into your oven at home\nA reference pamphlet with a tried-and-true bread recipe and key tips\nAccess to a private Facebook group to build community with classmates\, share successes\, and troubleshoot together long after the session ends\nThe confidence to work with dough in a way that feels approachable and easy\n\nThis is an evening of learning\, sharing\, and connecting—like gathering around the kitchen table. Come curious\, leave inspired (and with bread on the way). \nGuest Instructor: Tiffany Palmer is the owner of Cocoa & Sage a home bakery that provides Organic Sourdough & hand crafted treats.‘Hi\, Im Tiffany\, a local baker passionate about crafting sourdough loaves with love and patience. When I’m not tending to my starter\, I’m a proud mom of three little taste-testers.’ \n https://www.hotplate.com/cocoaandsage \n*All ticket sales are final \n\nTickets may be transferred to a friend or donated but cannot be refunded
URL:https://thriftyconnections.com/event/beginner-sourdough-baking-with-cocoa-sage-april-23rd/
LOCATION:Thrifty Connections\, 158 Lafayette Street\, Schenectady\, NY\, 12305\, United States
ATTACH;FMTTYPE=image/jpeg:https://thriftyconnections.com/wp-content/uploads/2025/09/unnamed-5.jpg
END:VEVENT
BEGIN:VEVENT
DTSTART;TZID=America/New_York:20260424T173000
DTEND;TZID=America/New_York:20260424T190000
DTSTAMP:20260423T142045
CREATED:20260317T225859Z
LAST-MODIFIED:20260318T174054Z
UID:2345-1777051800-1777057200@thriftyconnections.com
SUMMARY:Blooms & Breath: Framed Floral Art $30.00
DESCRIPTION:Friday April 24th 5:30pm-7:00pm \nBlooms & Breath: Framed Floral Art  $30.00 \nStep into a world of everlasting blooms and treat yourself to an evening of “Garden Therapy.” This workshop is an invitation to slow down and cultivate your own “indoor garden” through the art of floral assemblage. We begin our journey with a 5-minute garden-inspired guided visualization\, designed to transport your mind to a place of natural peace and prepare your creative spirit. \nFrom this centered state\, you will curate a stunning\, one-of-a-kind piece of art using uniquely repurposed frames and a lush selection of high-quality silk flowers and natural accents. Whether you choose to hang your masterpiece on a wall or display it as a flat “floral tray\,” you’ll leave with a sustainable\, maintenance-free botanical treasure.
URL:https://thriftyconnections.com/event/blooms-breath-framed-floral-art-30-00/
LOCATION:Thrifty Connections\, 158 Lafayette Street\, Schenectady\, NY\, 12305\, United States
ATTACH;FMTTYPE=image/jpeg:https://thriftyconnections.com/wp-content/uploads/2026/03/IMG_1557.jpeg
END:VEVENT
BEGIN:VEVENT
DTSTART;TZID=America/New_York:20260425T090000
DTEND;TZID=America/New_York:20260425T200000
DTSTAMP:20260423T142045
CREATED:20260404T191712Z
LAST-MODIFIED:20260404T191712Z
UID:2498-1777107600-1777147200@thriftyconnections.com
SUMMARY:Thrift Crawl - Crawling in Community  $15.00
DESCRIPTION:April 25\, 2026 9:00am-8:00pm \nThrift Crawl – Crawling in Community  $15.00 \nReady to turn “the treasure hunt” into a shared adventure? Thrifty Connections invites you to Crawl in Community—a curated\, full-day thrift expedition from Schenectady to Syracuse. \nForget solo shopping; we’re hitting the road together to uncover hidden gems\, vintage goodies\, and true thrift across Central New York. \nWhy join the crawl? \n\nVIP Access: Enjoy exclusive discounts at every single stop.\nThe Route: A pre-mapped tour of the best shops between Schenectady and Syracuse.\nThe Connection: Spend the day with a crew that loves the “second-hand score” as much as you do.\n\nWhether you’re a seasoned flipper\, a vintage lover\, or a sustainable fashion enthusiast\, you’ll spend the day surrounded by people who speak your language.It’s a long day of travel\, a big day of hauls\, and the perfect way to find your thrifting tribe. Grab your ticket and let’s find some treasure! \nA few important factors to note to ensure you have a positive experience. \n1) The day begins at 9:00am at Thrifty Connections in Schenectady.  \n2) Ticket holders are responsible for their own reliable & safe transportation. This ticket does not include transportation.  \n3) We are not attempting to drive convoy style. We will all have the same itinerary and drive to each location at our own pace. Each driver is responsible for their own directions and safe travel. \n4) To ensure we make it to each location by the end of the shopping day\, it is important that we arrive at each destination within a 15-minute window. \n5) We suggest bringing a packed lunch\, snacks\, and drinks to allow for more time for shopping and less time formally sitting down to eat. There will be a designated lunch break in the schedule where people can choose to take a break to eat or continue shopping. There is plenty of travel time to refuel in between stops. \n6) The day officially ends in Syracuse around 6:00pm\, this would be a great time to stop for a quick bite before heading home. \n7) Natalie with Thrifty Connections will be at each location to welcome you and answer any questions you may have. \n8) The owners of the shops we are visiting on the community crawl list have graciously offered exclusive discounts to all ticket holders of the thrift crawl. YOU MUST MENTION YOU ARE ON THE THRIFT CRAWL AT YOUR TIME OF PURCHASE TO ENJOY THE DISCOUNT.  \n*Once you purchase your Community-Crawl Ticket you will receive a PDF document with the itinerary for the day\, the complete listing of thrift\, vintage\, and consignment shops\, local restaurants & restrooms\, and exclusive discounts in an email within 24 hours. Please check your spam/junk folder if you have not received your document and email us directly at thriftyconnections143@gmail.com and we can email it to you directly. This ticket purchase also includes the complete list of shops from the solo-ticket purchase.  \n* This ticket is non-refundable and we ask that you please do not copy or share this document \n*A ticket purchase confirms that Thrifty Connections will not be held liable for any injury or hardship that may occur while traveling & participating in this thrift crawl.
URL:https://thriftyconnections.com/event/thrift-crawl-crawling-in-community-15-00/
LOCATION:Thrifty Connections\, 158 Lafayette Street\, Schenectady\, NY\, 12305\, United States
ATTACH;FMTTYPE=image/jpeg:https://thriftyconnections.com/wp-content/uploads/2026/04/thriftcrawl.jpg
END:VEVENT
BEGIN:VEVENT
DTSTART;TZID=America/New_York:20260425T100000
DTEND;TZID=America/New_York:20260425T113000
DTSTAMP:20260423T142045
CREATED:20260413T005922Z
LAST-MODIFIED:20260423T124031Z
UID:2599-1777111200-1777116600@thriftyconnections.com
SUMMARY:Spring Wreath Workshop April 25th 10:00am
DESCRIPTION: Spring Wreath Workshop  \nCelebrate the season with a creative and refreshing spring workshop where you’ll design a beautiful  wreath adorned with moss\, faux florals\, and thoughtfully chosen accents. The rich texture of moss paired with soft\, lifelike blooms creates a charming piece that feels both timeless and full of spring energy. \nEnjoy a relaxed and welcoming atmosphere\, and let your personal style shine as you craft a wreath that’s perfect for your home décor or to give as a gift. Whether your look leans whimsical\, elegant\, or garden-inspired\, you’ll leave with a one-of-a-kind creation to enjoy all season long. \nAll materials are provided — just bring your creativity and a love for all things spring. \nClasses at Thrifty Connections intended for adults and suitable for individuals 16+. \nTicket Policy \nAll ticket sales are final. Because our classes require advance planning\, preparation time\, and the gathering of materials and supplies\, we’re unable to offer refunds. If you’re unable to attend\, your ticket may be transferred to a friend or donated—just let us know ahead of time so we can update our guest list. Thank you for understanding and for supporting our small classes and creative offerings. 
URL:https://thriftyconnections.com/event/spring-wreath-workshop-april-25th-1000am/
LOCATION:Thrifty Connections\, 158 Lafayette Street\, Schenectady\, NY\, 12305\, United States
ATTACH;FMTTYPE=image/jpeg:https://thriftyconnections.com/wp-content/uploads/2026/02/IMG_3721.jpeg
ORGANIZER;CN="Rose":MAILTO:contact@thriftyconnections.com
END:VEVENT
BEGIN:VEVENT
DTSTART;TZID=America/New_York:20260425T100000
DTEND;TZID=America/New_York:20260426T180000
DTSTAMP:20260423T142045
CREATED:20260404T192132Z
LAST-MODIFIED:20260404T192132Z
UID:2502-1777111200-1777226400@thriftyconnections.com
SUMMARY:Thrift Crawl- Solo Traveler  $10.00
DESCRIPTION:Thrift Crawl- Solo Traveler  $10.00  \nApril 25th & April 26th \nLove the hunt but prefer to move at your own speed? Thrifty Connections presents the Solo Crawl—a curated thrift expedition from Schenectady to Syracuse designed for the independent shopper. \nWe’ve done the scouting; you do the scoring. With our exclusive guide\, you can spend twenty minutes at one shop or two hours at the next. It’s your day\, your pace\, and your haul. \nThe Solo Perks: \n\nExclusive Discounts: Show your pass at marked locations for exclusive discounts & savings you won’t get anywhere else.\nThe Route: Access our “Hidden Gems” list featuring the best shops between Schenectady and Syracuse.\nUltimate Flexibility: Start when you want\, skip what you want\, and linger where the vintage is best.\n\nGrab your map\, fuel up the car\, and go find your next treasure! \n*The exclusive discounts are only offered on April 25th & April 26th but you are free to enjoy this thrift crawl at any time.  \n* Once you purchase your Solo-Crawl Ticket you will receive a PDF document with the complete listing of thrift\, vintage\, and consignment shops\, local restaurants & restrooms\, and exclusive discounts in an email within 24 hours. Please check your spam/junk folder if you have not received your document and email us directly at thriftyconnections143@gmail.com and we can email it to you directly.  \n* This ticket is non-refundable and we ask that you please do not copy or share this document. 
URL:https://thriftyconnections.com/event/thrift-crawl-solo-traveler-10-00/
LOCATION:Thrifty Connections\, 158 Lafayette Street\, Schenectady\, NY\, 12305\, United States
ATTACH;FMTTYPE=image/jpeg:https://thriftyconnections.com/wp-content/uploads/2026/04/unnamed-7.jpg
END:VEVENT
BEGIN:VEVENT
DTSTART;TZID=America/New_York:20260425T130000
DTEND;TZID=America/New_York:20260425T150000
DTSTAMP:20260423T142045
CREATED:20260319T115629Z
LAST-MODIFIED:20260403T212801Z
UID:2364-1777122000-1777129200@thriftyconnections.com
SUMMARY:Candle Making workshop w/ Bella Blends
DESCRIPTION:Come join us for a two-hour\, hands-on candle-making event where creativity and relaxation meet. Together\, we’ll craft beautiful candles infused with therapeutic essential oils and topped with herbs and florals\nDuring this class\, you’ll learn the art and process of natural candle making while discovering the story and inspiration behind Bella Blends\, where every candle is created with intention\, purity\, and heart. There will be an intermission in the class while the candle sets\, giving you time to shop the store.\n\nAbout Bella Blends :\nBella Blends was created from a deeply personal journey of healing and discovery. After the birth of my third child\, I faced waves of anxiety that left me searching for natural ways to restore balance and peace. That search led me to the world of therapeutic-grade essential oils—pure\, plant-based remedies that not only eased my anxiety but brought a sense of calm and clarity into our home.\nWhat began as small\, daily rituals soon grew into a passion. I discovered the incredible power of nature’s blends. How certain oils could soothe\, energize\, or uplift. My family and I began using them in every corner of our lives\, from morning routines to bedtime rituals. As I witnessed the transformation these oils brought to our well-being\, I felt called to share that same comfort and care with others.\nAt Bella Blends\, each product is handcrafted with intention\, blending high-quality ingredients and therapeutic essential oils to support the mind\, body\, and spirit. Whether it’s a candle that brings peace to your space\, a roller that melts away tension\, or our newest body butter that nourishes and calms your skin\, every creation is made to help you reconnect with yourself.\n\n\n*All ticket sales are final \n\nTickets may be transferred to a friend or donated but cannot be refunded
URL:https://thriftyconnections.com/event/candle-making-workshop-w-bella-blends-2/
LOCATION:Thrifty Connections\, 158 Lafayette Street\, Schenectady\, NY\, 12305\, United States
ATTACH;FMTTYPE=image/webp:https://thriftyconnections.com/wp-content/uploads/2025/11/abundance6oz2.webp
END:VEVENT
BEGIN:VEVENT
DTSTART;TZID=America/New_York:20260430T180000
DTEND;TZID=America/New_York:20260430T193000
DTSTAMP:20260423T142045
CREATED:20260319T115018Z
LAST-MODIFIED:20260319T115018Z
UID:2358-1777572000-1777577400@thriftyconnections.com
SUMMARY:April Showers Bring May Flowers - Evening Paint & Celebratory Tea Class
DESCRIPTION:April 30th from 6-7:30pm \nCome celebrate the end of April as we sip Tea\, enjoy a Sweet Treat and paint a lovely vase with beautiful May flowers.  This will be an instructor taught class using acrylic paints on an 11×14 canvas board.  Enjoy a mindful & relaxed evening as we create this beautiful piece with step by step instruction. \n\nIntroducing Guest Instructor Julie Rouse. I live in Rotterdam with my husband\, 2 daughters and dog\, Mr. Jaxxy Boy. I am the owner of the ArtTEAsta Art & Tea studio\, also located in Rotterdam\, NY. My passion is community and teaching people of all ages new things\, especially art as a form of therapy and the intentional use of time with others. Art has been an outlet for me when life gets a little crazy. Art allows me to slow down and refocus my energy in a positive way so I can approach each day with a clear and focused Mind\, Body and Soul.\n\nClasses at Thrifty Connections intended for adults and suitable for individuals 16+.\nTicket Policy \nAll ticket sales are final. As a small business\, we operate with limited class capacity.  Classes require advance planning\, preparation time\, and the gathering of materials and supplies. Because of our limited capacity\, we are typically unable to refill seats or recover the costs associated with cancellations. For these reasons\, all class ticket purchases are final and non-refundable. \nIf you’re unable to attend\, your ticket may be transferred to a friend or donated—just let us know ahead of time so we can update our guest list. Thank you for understanding and for supporting our small classes and creative offerings.  \n 
URL:https://thriftyconnections.com/event/april-showers-bring-may-flowers-evening-paint-celebratory-tea-class/
LOCATION:Thrifty Connections\, 158 Lafayette Street\, Schenectady\, NY\, 12305\, United States
ATTACH;FMTTYPE=image/jpeg:https://thriftyconnections.com/wp-content/uploads/2026/03/IMG_0824.jpg
END:VEVENT
END:VCALENDAR