BEGIN:VCALENDAR
VERSION:2.0
PRODID:-//Thrifty Connections - ECPv6.15.20//NONSGML v1.0//EN
CALSCALE:GREGORIAN
METHOD:PUBLISH
X-WR-CALNAME:Thrifty Connections
X-ORIGINAL-URL:https://thriftyconnections.com
X-WR-CALDESC:Events for Thrifty Connections
REFRESH-INTERVAL;VALUE=DURATION:PT1H
X-Robots-Tag:noindex
X-PUBLISHED-TTL:PT1H
BEGIN:VTIMEZONE
TZID:America/New_York
BEGIN:DAYLIGHT
TZOFFSETFROM:-0500
TZOFFSETTO:-0400
TZNAME:EDT
DTSTART:20240310T070000
END:DAYLIGHT
BEGIN:STANDARD
TZOFFSETFROM:-0400
TZOFFSETTO:-0500
TZNAME:EST
DTSTART:20241103T060000
END:STANDARD
BEGIN:DAYLIGHT
TZOFFSETFROM:-0500
TZOFFSETTO:-0400
TZNAME:EDT
DTSTART:20250309T070000
END:DAYLIGHT
BEGIN:STANDARD
TZOFFSETFROM:-0400
TZOFFSETTO:-0500
TZNAME:EST
DTSTART:20251102T060000
END:STANDARD
BEGIN:DAYLIGHT
TZOFFSETFROM:-0500
TZOFFSETTO:-0400
TZNAME:EDT
DTSTART:20260308T070000
END:DAYLIGHT
BEGIN:STANDARD
TZOFFSETFROM:-0400
TZOFFSETTO:-0500
TZNAME:EST
DTSTART:20261101T060000
END:STANDARD
END:VTIMEZONE
BEGIN:VEVENT
DTSTART;TZID=America/New_York:20251203T130000
DTEND;TZID=America/New_York:20251203T143000
DTSTAMP:20260423T220141
CREATED:20251110T214858Z
LAST-MODIFIED:20251201T234608Z
UID:1153-1764766800-1764772200@thriftyconnections.com
SUMMARY:Holiday Card Writing Social
DESCRIPTION:Wednesday December 3rd 1:00- 2:30 \nHoliday Card Writing Social\n Take a little time for yourself this season and join us for a cozy card writing session at Thrifty Connections! We’ll have a lovely assortment of holiday cards ready for you\, plus fun embellishments to decorate your envelopes and make them extra special. Sip on hot tea\, enjoy relaxing music\, and soak up the calm\, creative vibes while you get your holiday cards done in good company. \nJust bring your address book and card list — we’ll take care of the rest!
URL:https://thriftyconnections.com/event/holiday-card-writing-social/
LOCATION:Thrifty Connections\, 158 Lafayette Street\, Schenectady\, NY\, 12305\, United States
ATTACH;FMTTYPE=image/jpeg:https://thriftyconnections.com/wp-content/uploads/2025/11/IMG_1005.jpeg
ORGANIZER;CN="Rose":MAILTO:contact@thriftyconnections.com
END:VEVENT
BEGIN:VEVENT
DTSTART;TZID=America/New_York:20251204T180000
DTEND;TZID=America/New_York:20251204T200000
DTSTAMP:20260423T220141
CREATED:20251027T233610Z
LAST-MODIFIED:20251027T233610Z
UID:991-1764871200-1764878400@thriftyconnections.com
SUMMARY:Beginning Needle Felting
DESCRIPTION:Thursday December 4th 6:00pm-8:00pm \nBeginning Needle Felting \n  Come learn a little about needle felting and & take home a small ornament or gift tag for the holiday season. \n If you’re feeling really adventurous you can make an ugly sweater ornament! \nMaterials supplied for a simple needle felted ornament and information on how to keep going with this satisfying maker’s project! \nClass hosted by Beth Kane\, a semi-retired  granny nanny pursuing frivolous making\, reusing\,repurposing and recycling projects. \nAll classes at Thrifty Connections are intended for adults and suitable for individuals 16+.
URL:https://thriftyconnections.com/event/beginning-needle-felting/
LOCATION:Thrifty Connections\, 158 Lafayette Street\, Schenectady\, NY\, 12305\, United States
ATTACH;FMTTYPE=image/jpeg:https://thriftyconnections.com/wp-content/uploads/2025/10/felt.jpg
END:VEVENT
BEGIN:VEVENT
DTSTART;TZID=America/New_York:20251205T130000
DTEND;TZID=America/New_York:20251205T143000
DTSTAMP:20260423T220141
CREATED:20251030T020827Z
LAST-MODIFIED:20251204T170021Z
UID:1043-1764939600-1764945000@thriftyconnections.com
SUMMARY:Whimsical miniature nature arrangements
DESCRIPTION:—Step into a world of miniature wonder! In this hands-on class\, you’ll learn to create enchanting\, nature-inspired arrangements that bring the magic of the outdoors into your home. Using baskets\, pots\, and natural materials like moss\, twigs\, pebbles\, and seasonal flora\, we’ll explore how to design small-scale displays that tell a story  from woodland fairy gardens to rustic meadow scenes. \nPerfect for beginners and nature lovers alike\, this class invites you to slow down\, play creatively with natural materials\, and discover the joy of crafting tiny worlds full of charm and imagination. \nAll materials provided. Just bring your creativity and a love for nature!
URL:https://thriftyconnections.com/event/whimsical-miniature-nature-arrangements/
LOCATION:Thrifty Connections\, 158 Lafayette Street\, Schenectady\, NY\, 12305\, United States
ATTACH;FMTTYPE=image/jpeg:https://thriftyconnections.com/wp-content/uploads/2025/10/unnamed.jpg
END:VEVENT
BEGIN:VEVENT
DTSTART;TZID=America/New_York:20251205T180000
DTEND;TZID=America/New_York:20251205T200000
DTSTAMP:20260423T220141
CREATED:20251103T030146Z
LAST-MODIFIED:20251205T014707Z
UID:1109-1764957600-1764964800@thriftyconnections.com
SUMMARY:Holiday Junk Journal
DESCRIPTION:Holiday Junk Journal Workshop\nCreate a cozy keepsake full of holiday cheer! In this hands-on class\, we’ll turn simple lunch bags\, old greeting cards\, and festive scraps into a one-of-a-kind junk journal. Use it to store holiday photos\, favorite recipes\, memories\, or gift lists — the possibilities are endless! \nLearn easy folding and decorating techniques to give new life to everyday materials while capturing the spirit of the season. Perfect for all skill levels and anyone who loves crafting\, upcycling\, or a little holiday magic.
URL:https://thriftyconnections.com/event/holiday-junk-journal-2/
LOCATION:Thrifty Connections\, 158 Lafayette Street\, Schenectady\, NY\, 12305\, United States
ATTACH;FMTTYPE=image/jpeg:https://thriftyconnections.com/wp-content/uploads/2025/11/IMG_0921.jpeg
ORGANIZER;CN="Rose":MAILTO:contact@thriftyconnections.com
END:VEVENT
BEGIN:VEVENT
DTSTART;TZID=America/New_York:20251206T100000
DTEND;TZID=America/New_York:20251206T113000
DTSTAMP:20260423T220141
CREATED:20251027T214020Z
LAST-MODIFIED:20251031T221140Z
UID:978-1765015200-1765020600@thriftyconnections.com
SUMMARY:Woodland Wreaths
DESCRIPTION:Saturday December 6th 10:00am- 11:30am\nWoodland Wreaths: Moss\, Birds & Natural Elements  \nBring the beauty of the forest into your home with a handmade moss wreath adorned with natural elements like twigs\, tiny birds\, and woodland finds. In this relaxing\, hands-on class\, you’ll create a lush\, textural wreath that celebrates the quiet beauty of nature.\nYou’ll get to layer moss\, add subtle details\, and balance colors and textures for a harmonious\, organic look. Each wreath will be unique — a reflection of your own connection to the natural world. \nThis is a calm\, creative workshop — perfect for slowing down and crafting something meaningful with your hands. \nAll materials provided. No experience needed. \n  \nAll classes at Thrifty Connections are intended for adults and suitable for individuals 16+.
URL:https://thriftyconnections.com/event/woodland-wreaths-contemplative-2/
LOCATION:Thrifty Connections\, 158 Lafayette Street\, Schenectady\, NY\, 12305\, United States
ATTACH;FMTTYPE=image/jpeg:https://thriftyconnections.com/wp-content/uploads/2025/10/IMG_0493.jpeg
ORGANIZER;CN="Rose":MAILTO:contact@thriftyconnections.com
END:VEVENT
BEGIN:VEVENT
DTSTART;TZID=America/New_York:20251206T130000
DTEND;TZID=America/New_York:20251206T143000
DTSTAMP:20260423T220141
CREATED:20251110T153518Z
LAST-MODIFIED:20251204T123809Z
UID:1143-1765026000-1765031400@thriftyconnections.com
SUMMARY:Cozy Crafting: Holiday Book Folding & Floral Design
DESCRIPTION:Saturday December 6th 1:00pm-2:30pm \n  \nCozy Crafting: Holiday Book Folding & Floral Design  $25.00 \nJoin us for a wonderfully unique and festive holiday craft session! Get cozy with holiday music playing and enjoy a self-serve hot cocoa bar as we transform a repurposed holiday book into stunning home décor. \nYou’ll learn two creative skills in one workshop. First guests will master the satisfying art of book folding to create a beautiful vase from the pages. Next learn essential flower arrangement techniques as you design and assemble a vibrant\, winter-themed arrangement to complete your piece. \nThis one-of-a-kind creation is a perfect centerpiece for your mantel or a thoughtful\, handmade gift! Come craft\, sip\, and celebrate the season!
URL:https://thriftyconnections.com/event/cozy-crafting-holiday-book-folding-floral-design/
LOCATION:Thrifty Connections\, 158 Lafayette Street\, Schenectady\, NY\, 12305\, United States
ATTACH;FMTTYPE=image/jpeg:https://thriftyconnections.com/wp-content/uploads/2025/11/unnamed-13.jpg
END:VEVENT
BEGIN:VEVENT
DTSTART;TZID=America/New_York:20251211T120000
DTEND;TZID=America/New_York:20251211T133000
DTSTAMP:20260423T220141
CREATED:20251110T154435Z
LAST-MODIFIED:20251210T194716Z
UID:1147-1765454400-1765459800@thriftyconnections.com
SUMMARY:Handmade Holiday Cheer: Magnet Gift Sets
DESCRIPTION:Wednesday December 11th 12:00pm-1:30pm $20.00 \nHandmade Holiday Cheer: Magnet Gift Sets \n  \nGet into the festive spirit with this fun and lighthearted workshop! Enjoy the ambiance of holiday music as you craft and create two adorable\, custom holiday-themed magnet sets. With several winter and holiday images available\, you can easily design a set that perfectly fits your style and a second one tailored for a loved one. Leave with a gift checked off your list and a dose of cheerful\, homemade charm!
URL:https://thriftyconnections.com/event/handmade-holiday-cheer-magnet-gift-sets/
LOCATION:Thrifty Connections\, 158 Lafayette Street\, Schenectady\, NY\, 12305\, United States
ATTACH;FMTTYPE=image/jpeg:https://thriftyconnections.com/wp-content/uploads/2025/11/unnamed-14.jpg
ORGANIZER;CN="Rose":MAILTO:contact@thriftyconnections.com
END:VEVENT
BEGIN:VEVENT
DTSTART;TZID=America/New_York:20251211T180000
DTEND;TZID=America/New_York:20251211T193000
DTSTAMP:20260423T220141
CREATED:20251111T005022Z
LAST-MODIFIED:20251111T005022Z
UID:1161-1765476000-1765481400@thriftyconnections.com
SUMMARY:Mindful and Merry: Holiday Book Art  CONTEMPLATIVE 
DESCRIPTION:Thursday December 11th 6:00-7:30pm  CONTEMPLATIVE  \nMindful and Merry: Holiday Book Art $20.00 \n  \nEscape the holiday rush and join us for a restorative and creative workshop focused on the mindful art of book folding. \nWe begin with a short guided meditation to help you unwind and lean into the contemplative focus of this unique craft. Using repurposed books\, you’ll create a stunning Book Page Holiday Tree and a delicate Music Page Angel Ornament. The crafting then opens up to light social connection with holiday music providing a festive backdrop. A perfect balance of peace and holiday cheer!
URL:https://thriftyconnections.com/event/mindful-and-merry-holiday-book-art-contemplative/
LOCATION:Thrifty Connections\, 158 Lafayette Street\, Schenectady\, NY\, 12305\, United States
ATTACH;FMTTYPE=image/jpeg:https://thriftyconnections.com/wp-content/uploads/2025/11/unnamed-15.jpg
END:VEVENT
BEGIN:VEVENT
DTSTART;TZID=America/New_York:20251212T130000
DTEND;TZID=America/New_York:20251212T150000
DTSTAMP:20260423T220141
CREATED:20251027T221859Z
LAST-MODIFIED:20251027T221859Z
UID:983-1765544400-1765551600@thriftyconnections.com
SUMMARY:Button Bird: Cardinal Workshop
DESCRIPTION:Button Bird: Cardinal Workshop\nCelebrate the bright spirit of winter with a charming button bird cardinal! In this fun\, hands-on class\, we’ll create a small bird design by layering buttons for texture and color. You’ll bring a vibrant red cardinal to life — a symbol of warmth and hope in the colder months. \nThis is a relaxed and joyful workshop. Come enjoy an afternoon of creativity and a touch of bird-inspired magic. \nAll materials provided. No experience needed. \nAll classes at Thrifty Connections are intended for adults and suitable for individuals 16+.
URL:https://thriftyconnections.com/event/button-bird-cardinal-workshop/
LOCATION:Thrifty Connections\, 158 Lafayette Street\, Schenectady\, NY\, 12305\, United States
ATTACH;FMTTYPE=image/jpeg:https://thriftyconnections.com/wp-content/uploads/2025/10/IMG_0805.jpeg
ORGANIZER;CN="Rose":MAILTO:contact@thriftyconnections.com
END:VEVENT
BEGIN:VEVENT
DTSTART;TZID=America/New_York:20251212T180000
DTEND;TZID=America/New_York:20251212T200000
DTSTAMP:20260423T220141
CREATED:20251114T152724Z
LAST-MODIFIED:20251212T204444Z
UID:1207-1765562400-1765569600@thriftyconnections.com
SUMMARY:Candy House Holiday Celebration
DESCRIPTION:Friday December 12th 6:00pm-8:00pm \nCandy House Holiday Celebration $30.00 \n  \nGet ready for the most fun and festive craft party of the season! This is the class you’ll want to share with friends\, family\, and co-workers—it’s destined to become your new holiday tradition! \nJoin us to transform a repurposed milk carton into an edible masterpiece—a charming holiday candy house! Using colorful candies\, icing\, and sweet decorations\, you’ll design a unique\, one-of-a-kind creation. \nThe Festivities Include: \n\nFestive Vibe: Enjoy the cozy ambiance of holiday music playing throughout the class.\nWarm Treats: Sip on warmth from our delicious hot cocoa bar.\nDress the Part: Come dressed in your favorite holiday apparel or your best ugly sweater look to fully embrace the holiday spirit!\n\nThis class is lighthearted\, creative\, and guarantees a sugar-fueled\, memorable time you’ll want to repeat every year!
URL:https://thriftyconnections.com/event/candy-house-holiday-celebration-2/
LOCATION:Thrifty Connections\, 158 Lafayette Street\, Schenectady\, NY\, 12305\, United States
ATTACH;FMTTYPE=image/jpeg:https://thriftyconnections.com/wp-content/uploads/2025/11/IMG_9439.jpeg
END:VEVENT
BEGIN:VEVENT
DTSTART;TZID=America/New_York:20251213T100000
DTEND;TZID=America/New_York:20251213T113000
DTSTAMP:20260423T220141
CREATED:20251111T222225Z
LAST-MODIFIED:20251111T222225Z
UID:1171-1765620000-1765625400@thriftyconnections.com
SUMMARY:Joy in a Jar : Mason Jar Holiday Gifts
DESCRIPTION:Saturday December 13th 10:00am-11:30am \nJoy in a Jar : Mason Jar Holiday Gifts $20.00 \nTake a break from the hustle and enjoy a light and fun creative escape! We’ll set the perfect mood with festive holiday music and a delightful hot cocoa bar. \nYou’ll create two distinctive\, personalized gifts inside mason jars: a fragrant Simmer Pot Jar (packed with fresh winter elements) and a sweet\, small Paperwhite Terrarium for a touch of winter greenery. This craft is easy\, cheerful\, and results in two thoughtful\, handmade holiday gifts you can proudly share!
URL:https://thriftyconnections.com/event/joy-in-a-jar-mason-jar-holiday-gifts/
LOCATION:Thrifty Connections\, 158 Lafayette Street\, Schenectady\, NY\, 12305\, United States
ATTACH;FMTTYPE=image/jpeg:https://thriftyconnections.com/wp-content/uploads/2025/11/unnamed-16.jpg
END:VEVENT
BEGIN:VEVENT
DTSTART;TZID=America/New_York:20251213T130000
DTEND;TZID=America/New_York:20251213T141500
DTSTAMP:20260423T220141
CREATED:20251027T200914Z
LAST-MODIFIED:20251028T145448Z
UID:970-1765630800-1765635300@thriftyconnections.com
SUMMARY:Teacup Wonderlands
DESCRIPTION:Saturday December 13th 1:00- 2:15 \nTeacup Wonderlands $20.00 \n  \nCreate a tiny world of holiday cheer! In this festive workshop\, we’ll build mini holiday scenes inside teacups\, using greenery\, small ornaments\, and other seasonal touches. Each teacup becomes its own little winter wonderland — perfect for decorating your home or giving as a handmade gift. \nThis is a relaxed\, hands-on class where you can play with color\, texture\, and imagination. No experience needed — just come ready to create and enjoy a bit of holiday magic. \nHot Cocoa Bar and holiday tunes included! \nAll materials provided. \nAll classes at Thrifty Connections are intended for adults and suitable for individuals 16+.
URL:https://thriftyconnections.com/event/teacup-wonderlands-2/
LOCATION:Thrifty Connections\, 158 Lafayette Street\, Schenectady\, NY\, 12305\, United States
ATTACH;FMTTYPE=image/jpeg:https://thriftyconnections.com/wp-content/uploads/2025/10/IMG_0500.jpeg
ORGANIZER;CN="Rose":MAILTO:contact@thriftyconnections.com
END:VEVENT
BEGIN:VEVENT
DTSTART;TZID=America/New_York:20251217T100000
DTEND;TZID=America/New_York:20251217T113000
DTSTAMP:20260423T220141
CREATED:20251111T223049Z
LAST-MODIFIED:20251217T144902Z
UID:1175-1765965600-1765971000@thriftyconnections.com
SUMMARY:Mindful and Merry: Holiday Book Art  CONTEMPLATIVE 
DESCRIPTION:Wednesday December 17th 10:00am-11:30am CONTEMPLATIVE  \nMindful and Merry: Holiday Book Art $20.00 \n  \nEscape the holiday rush and join us for a restorative and creative workshop focused on the mindful art of book folding. \nWe begin with a short guided meditation to help you unwind and lean into the contemplative focus of this unique craft. Using repurposed books\, you’ll create a stunning Book Page Holiday Tree and a delicate Music Page Angel Ornament. The crafting then opens up to light social connection with holiday music providing a festive backdrop. A perfect balance of peace and holiday cheer!
URL:https://thriftyconnections.com/event/mindful-and-merry-holiday-book-art-contemplative-2/
LOCATION:Thrifty Connections\, 158 Lafayette Street\, Schenectady\, NY\, 12305\, United States
ATTACH;FMTTYPE=image/jpeg:https://thriftyconnections.com/wp-content/uploads/2025/11/unnamed-15.jpg
END:VEVENT
BEGIN:VEVENT
DTSTART;TZID=America/New_York:20251218T120000
DTEND;TZID=America/New_York:20251218T133000
DTSTAMP:20260423T220141
CREATED:20251110T220750Z
LAST-MODIFIED:20251217T211542Z
UID:1157-1766059200-1766064600@thriftyconnections.com
SUMMARY:Holiday Gift Wrapping Social 
DESCRIPTION:Thursday December 18th 12:00pm-1:30pm \nHoliday Gift Wrapping Social  \n\n Skip the late-night wrapping chaos and join us at Thrifty Connections for a calm\, cozy wrapping session. Bring your stack of unwrapped gifts\, and we’ll supply all the wrapping paper\, ribbons\, tags\, bows\, and other festive touches you need. \nEnjoy a warm cup of tea\, soft holiday music\, and the satisfaction of getting it all done in good company. You bring the gifts — we’ll bring the cheer! ✨
URL:https://thriftyconnections.com/event/holiday-gift-wrapping-social/
LOCATION:Thrifty Connections\, 158 Lafayette Street\, Schenectady\, NY\, 12305\, United States
ATTACH;FMTTYPE=image/jpeg:https://thriftyconnections.com/wp-content/uploads/2025/11/christmas-9285353_1280.jpg
ORGANIZER;CN="Rose":MAILTO:contact@thriftyconnections.com
END:VEVENT
BEGIN:VEVENT
DTSTART;TZID=America/New_York:20251218T180000
DTEND;TZID=America/New_York:20251218T200000
DTSTAMP:20260423T220141
CREATED:20251104T001950Z
LAST-MODIFIED:20251104T001950Z
UID:1116-1766080800-1766088000@thriftyconnections.com
SUMMARY:Community Project: Up-cycled Gift Tags
DESCRIPTION:Come help make some up-cycled gift tags to attach to our hygiene stockings for Street Soldiers. In lieu of class fee please bring some hygiene items to share that will fit inside of stockings:\nHair ties\nRazors\nSoap\nLaundry pods\nToothbrushes\nToothpaste\nFloss\nFeminine products\nDeodorant\nNail Clippers\nBody Wipes\nWashcloths\nTravel size items
URL:https://thriftyconnections.com/event/community-project-up-cycled-gift-tags/
LOCATION:Thrifty Connections\, 158 Lafayette Street\, Schenectady\, NY\, 12305\, United States
ATTACH;FMTTYPE=image/jpeg:https://thriftyconnections.com/wp-content/uploads/2025/11/IMG_0919.jpeg
ORGANIZER;CN="Rose":MAILTO:contact@thriftyconnections.com
END:VEVENT
BEGIN:VEVENT
DTSTART;TZID=America/New_York:20251219T130000
DTEND;TZID=America/New_York:20251219T140000
DTSTAMP:20260423T220141
CREATED:20251121T012353Z
LAST-MODIFIED:20251121T012353Z
UID:1237-1766149200-1766152800@thriftyconnections.com
SUMMARY:Community Service Workshop: Stockings for Street Soldiers
DESCRIPTION: Community Service Workshop: Stockings for Street Soldiers  \nJoin us for a heartwarming community service class where we come together to support Street Soldiers\, an organization dedicated to helping those in need. In this session\, we’ll assemble holiday stockings filled with essential hygiene products to bring comfort and care to individuals experiencing hardship this season. \n Class DetailsThere is no class fee\, but we kindly ask each participant to bring at least two hygiene products to contribute (examples: toothbrushes\, toothpaste\, soap\, deodorant\, wipes\, shampoo\, lotion\, etc.). \nWe’ll provide the stockings and additional supplies—along with a festive atmosphere! \n Enjoy a cozy hot cocoa bar and cheerful holiday music as we work together to make a difference. \nCome spread kindness\, connect with your community\, and help bring holiday warmth to others.
URL:https://thriftyconnections.com/event/community-service-workshop-stockings-for-street-soldiers/
LOCATION:Thrifty Connections\, 158 Lafayette Street\, Schenectady\, NY\, 12305\, United States
ATTACH;FMTTYPE=image/jpeg:https://thriftyconnections.com/wp-content/uploads/2025/11/download-3.jpeg
END:VEVENT
BEGIN:VEVENT
DTSTART;TZID=America/New_York:20251220T130000
DTEND;TZID=America/New_York:20251220T150000
DTSTAMP:20260423T220141
CREATED:20251113T040739Z
LAST-MODIFIED:20251211T220553Z
UID:1191-1766235600-1766242800@thriftyconnections.com
SUMMARY:The Coming of the Light: A Solstice Evening of Creative Reflection
DESCRIPTION:Saturday December 20th 1:00-3:00 \nThe Coming of the Light: A Solstice Evening of Creative Reflection $25.00 \n  \nGather in community for a deeply meaningful night of preparation and hope. This unique workshop is a chance to slow down\, reflect\, and symbolically prepare for the return of the light on the darkest night of the year. \nWe’ll share the historical richness of Solstice traditions worldwide. After a quiet reflection to release what no longer serves us\, you will select a seed of intention to guide you through the dark & cold winter season.  The second half of the evening is dedicated to creating symbolic crafts: a Beeswax Candle ( Light)\, a Waldorf Window Star(Hope)\, and a fragrant Pinecone Firestarter(Release). Leave with everything you need to honor the coming of the light on the Winter Solstice and hopeful heart. 
URL:https://thriftyconnections.com/event/the-coming-of-the-light-a-solstice-evening-of-creative-reflection/
LOCATION:Thrifty Connections\, 158 Lafayette Street\, Schenectady\, NY\, 12305\, United States
ATTACH;FMTTYPE=image/jpeg:https://thriftyconnections.com/wp-content/uploads/2025/11/unnamed-18.jpg
END:VEVENT
END:VCALENDAR