BEGIN:VCALENDAR
VERSION:2.0
PRODID:-//Thrifty Connections - ECPv6.15.20//NONSGML v1.0//EN
CALSCALE:GREGORIAN
METHOD:PUBLISH
X-WR-CALNAME:Thrifty Connections
X-ORIGINAL-URL:https://thriftyconnections.com
X-WR-CALDESC:Events for Thrifty Connections
REFRESH-INTERVAL;VALUE=DURATION:PT1H
X-Robots-Tag:noindex
X-PUBLISHED-TTL:PT1H
BEGIN:VTIMEZONE
TZID:UTC
BEGIN:STANDARD
TZOFFSETFROM:+0000
TZOFFSETTO:+0000
TZNAME:UTC
DTSTART:20240101T000000
END:STANDARD
END:VTIMEZONE
BEGIN:VEVENT
DTSTART;TZID=UTC:20250903T100000
DTEND;TZID=UTC:20250903T114500
DTSTAMP:20260426T001403
CREATED:20250805T032342Z
LAST-MODIFIED:20250906T122209Z
UID:317-1756893600-1756899900@thriftyconnections.com
SUMMARY:Sunflower Themed Magnet Gift Set
DESCRIPTION:Wednesday September 3\, 2025 \n10:00am-11:45am \n$20.00      FREE to celebrate our grand opening! Limit one free class per person during opening week. \nJoin us to create your own Sunflower-Themed Magnet Gift Set! In this fun\, hands-on workshop\, you’ll learn how to transform a simple upcycled crafting tin into a beautiful\, personalized gift set. We’ll use a variety of materials and techniques to craft a set of unique sunflower-themed magnets. You’ll leave with a completed\, ready-to-gift creation—perfect for a loved one or to keep for yourself. No experience is necessary! \n*All classes at Thrifty Connections are intended for adults and are suitable for individuals ages 16+. \n 
URL:https://thriftyconnections.com/event/sunflower-themed-magnet-gift-set/
LOCATION:Thrifty Connections\, 158 Lafayette Street\, Schenectady\, NY\, 12305\, United States
ATTACH;FMTTYPE=image/heic:https://thriftyconnections.com/wp-content/uploads/2025/08/IMG_6061.jpg
END:VEVENT
END:VCALENDAR