BEGIN:VCALENDAR
VERSION:2.0
PRODID:-//Thrifty Connections - ECPv6.15.20//NONSGML v1.0//EN
CALSCALE:GREGORIAN
METHOD:PUBLISH
X-WR-CALNAME:Thrifty Connections
X-ORIGINAL-URL:https://thriftyconnections.com
X-WR-CALDESC:Events for Thrifty Connections
REFRESH-INTERVAL;VALUE=DURATION:PT1H
X-Robots-Tag:noindex
X-PUBLISHED-TTL:PT1H
BEGIN:VTIMEZONE
TZID:America/New_York
BEGIN:DAYLIGHT
TZOFFSETFROM:-0500
TZOFFSETTO:-0400
TZNAME:EDT
DTSTART:20250309T070000
END:DAYLIGHT
BEGIN:STANDARD
TZOFFSETFROM:-0400
TZOFFSETTO:-0500
TZNAME:EST
DTSTART:20251102T060000
END:STANDARD
BEGIN:DAYLIGHT
TZOFFSETFROM:-0500
TZOFFSETTO:-0400
TZNAME:EDT
DTSTART:20260308T070000
END:DAYLIGHT
BEGIN:STANDARD
TZOFFSETFROM:-0400
TZOFFSETTO:-0500
TZNAME:EST
DTSTART:20261101T060000
END:STANDARD
BEGIN:DAYLIGHT
TZOFFSETFROM:-0500
TZOFFSETTO:-0400
TZNAME:EDT
DTSTART:20270314T070000
END:DAYLIGHT
BEGIN:STANDARD
TZOFFSETFROM:-0400
TZOFFSETTO:-0500
TZNAME:EST
DTSTART:20271107T060000
END:STANDARD
END:VTIMEZONE
BEGIN:VEVENT
DTSTART;TZID=America/New_York:20260321T100000
DTEND;TZID=America/New_York:20260321T113000
DTSTAMP:20260423T232433
CREATED:20260223T231254Z
LAST-MODIFIED:20260223T231254Z
UID:2068-1774087200-1774092600@thriftyconnections.com
SUMMARY:Tea Time for Bird Lovers: Tea Cup Bird Baths $25.00
DESCRIPTION:March 21st 10:00am-11:30am \nTea Time for Bird Lovers: Tea Cup Bird Baths $25.00 \nJoin us for the perfect mixture of relaxation and lighthearted fun! In this nature-inspired workshop\, guests will create charming Tea Cup Bird Baths using whimsical vintage china and preserved moss. \nWe’ll begin by grounding ourselves with a relaxing guided breathwork exercise\, followed by a curated tea service featuring herbal blends served in vintage china. Once you’re feeling centered\, you’ll dive into our “garden” of materials. You’ll select a unique vintage tea cup & saucer to transform into a moss-covered indoor bird bath using lush\, preserved greenery. \nIt’s light\, it’s fun\, and it’s the ultimate reset for bird and tea lovers alike. \nClasses at Thrifty Connections intended for adults and suitable for individuals 16+. \nTicket Policy \nAll ticket sales are final. Because our classes require advance planning\, preparation time\, and the gathering of materials and supplies\, we’re unable to offer refunds. If you’re unable to attend\, your ticket may be transferred to a friend or donated—just let us know ahead of time so we can update our guest list. Thank you for understanding and for supporting our small classes and creative offerings.  \n 
URL:https://thriftyconnections.com/event/tea-time-for-bird-lovers-tea-cup-bird-baths-25-00-2/
LOCATION:Thrifty Connections\, 158 Lafayette Street\, Schenectady\, NY\, 12305\, United States
ATTACH;FMTTYPE=image/jpeg:https://thriftyconnections.com/wp-content/uploads/2026/02/birdtea.jpg
END:VEVENT
BEGIN:VEVENT
DTSTART;TZID=America/New_York:20260321T130000
DTEND;TZID=America/New_York:20260321T143000
DTSTAMP:20260423T232433
CREATED:20260218T223238Z
LAST-MODIFIED:20260218T223238Z
UID:2042-1774098000-1774103400@thriftyconnections.com
SUMMARY:Spring Wreath Workshop 
DESCRIPTION: Spring Wreath Workshop  \nSaturday March 21st 1:00-2:30pm \n$30.00 \nCelebrate the season with a creative and refreshing spring workshop where you’ll design a beautiful  wreath adorned with moss\, faux florals\, and thoughtfully chosen accents. The rich texture of moss paired with soft\, lifelike blooms creates a charming piece that feels both timeless and full of spring energy. \nEnjoy a relaxed and welcoming atmosphere\, and let your personal style shine as you craft a wreath that’s perfect for your home décor or to give as a gift. Whether your look leans whimsical\, elegant\, or garden-inspired\, you’ll leave with a one-of-a-kind creation to enjoy all season long. \nAll materials are provided — just bring your creativity and a love for all things spring. \nClasses at Thrifty Connections intended for adults and suitable for individuals 16+. \nTicket Policy \nAll ticket sales are final. Because our classes require advance planning\, preparation time\, and the gathering of materials and supplies\, we’re unable to offer refunds. If you’re unable to attend\, your ticket may be transferred to a friend or donated—just let us know ahead of time so we can update our guest list. Thank you for understanding and for supporting our small classes and creative offerings. 
URL:https://thriftyconnections.com/event/spring-wreath-workshop/
LOCATION:Thrifty Connections\, 158 Lafayette Street\, Schenectady\, NY\, 12305\, United States
ATTACH;FMTTYPE=image/jpeg:https://thriftyconnections.com/wp-content/uploads/2026/02/IMG_3721.jpeg
ORGANIZER;CN="Rose":MAILTO:contact@thriftyconnections.com
END:VEVENT
END:VCALENDAR