BEGIN:VCALENDAR
VERSION:2.0
PRODID:-//Thrifty Connections - ECPv6.15.20//NONSGML v1.0//EN
CALSCALE:GREGORIAN
METHOD:PUBLISH
X-WR-CALNAME:Thrifty Connections
X-ORIGINAL-URL:https://thriftyconnections.com
X-WR-CALDESC:Events for Thrifty Connections
REFRESH-INTERVAL;VALUE=DURATION:PT1H
X-Robots-Tag:noindex
X-PUBLISHED-TTL:PT1H
BEGIN:VTIMEZONE
TZID:America/New_York
BEGIN:DAYLIGHT
TZOFFSETFROM:-0500
TZOFFSETTO:-0400
TZNAME:EDT
DTSTART:20250309T070000
END:DAYLIGHT
BEGIN:STANDARD
TZOFFSETFROM:-0400
TZOFFSETTO:-0500
TZNAME:EST
DTSTART:20251102T060000
END:STANDARD
BEGIN:DAYLIGHT
TZOFFSETFROM:-0500
TZOFFSETTO:-0400
TZNAME:EDT
DTSTART:20260308T070000
END:DAYLIGHT
BEGIN:STANDARD
TZOFFSETFROM:-0400
TZOFFSETTO:-0500
TZNAME:EST
DTSTART:20261101T060000
END:STANDARD
BEGIN:DAYLIGHT
TZOFFSETFROM:-0500
TZOFFSETTO:-0400
TZNAME:EDT
DTSTART:20270314T070000
END:DAYLIGHT
BEGIN:STANDARD
TZOFFSETFROM:-0400
TZOFFSETTO:-0500
TZNAME:EST
DTSTART:20271107T060000
END:STANDARD
END:VTIMEZONE
BEGIN:VEVENT
DTSTART;TZID=America/New_York:20260122T180000
DTEND;TZID=America/New_York:20260122T200000
DTSTAMP:20260423T204512
CREATED:20251216T004832Z
LAST-MODIFIED:20260121T175530Z
UID:1399-1769104800-1769112000@thriftyconnections.com
SUMMARY:Feathered Friends: DIY: Winter Bird Feeder & Garland Workshop
DESCRIPTION:Thursday January 22nd 6:00pm-8:00pm  $30.00  \nFeathered Friends: DIY: Winter Bird Feeder & Garland Workshop  \nCalling all bird lovers! Join us for a unique\, heartwarming workshop where we blend holiday creativity with natural kindness. \nDuring the harsh\, cold winter\, our feathered friends need a little extra help. In this light and social class\, you’ll create two beautiful and functional feeders: \n\nAn adorable\, gingerbread-inspired bird feeding house made from natural elements and packed with nourishing seed.\nA charming\, accompanying bird feeding garland.\n\nThe atmosphere will be extra cozy\, featuring twinkling candles\, a comforting hot tea bar\, and the gentle songs of birds playing in the background. Leave with your handmade bird feeder\, garland\, and a renewed spirit\, ready to support local wildlife this winter! \nNo experience necessary. All materials provided.
URL:https://thriftyconnections.com/event/feathered-friends-diy-winter-bird-feeder-garland-workshop-2/
LOCATION:Thrifty Connections\, 158 Lafayette Street\, Schenectady\, NY\, 12305\, United States
ATTACH;FMTTYPE=image/jpeg:https://thriftyconnections.com/wp-content/uploads/2025/12/unnamed-22.jpg
END:VEVENT
END:VCALENDAR