BEGIN:VCALENDAR
VERSION:2.0
PRODID:-//Thrifty Connections - ECPv6.15.20//NONSGML v1.0//EN
CALSCALE:GREGORIAN
METHOD:PUBLISH
X-WR-CALNAME:Thrifty Connections
X-ORIGINAL-URL:https://thriftyconnections.com
X-WR-CALDESC:Events for Thrifty Connections
REFRESH-INTERVAL;VALUE=DURATION:PT1H
X-Robots-Tag:noindex
X-PUBLISHED-TTL:PT1H
BEGIN:VTIMEZONE
TZID:America/New_York
BEGIN:DAYLIGHT
TZOFFSETFROM:-0500
TZOFFSETTO:-0400
TZNAME:EDT
DTSTART:20250309T070000
END:DAYLIGHT
BEGIN:STANDARD
TZOFFSETFROM:-0400
TZOFFSETTO:-0500
TZNAME:EST
DTSTART:20251102T060000
END:STANDARD
BEGIN:DAYLIGHT
TZOFFSETFROM:-0500
TZOFFSETTO:-0400
TZNAME:EDT
DTSTART:20260308T070000
END:DAYLIGHT
BEGIN:STANDARD
TZOFFSETFROM:-0400
TZOFFSETTO:-0500
TZNAME:EST
DTSTART:20261101T060000
END:STANDARD
BEGIN:DAYLIGHT
TZOFFSETFROM:-0500
TZOFFSETTO:-0400
TZNAME:EDT
DTSTART:20270314T070000
END:DAYLIGHT
BEGIN:STANDARD
TZOFFSETFROM:-0400
TZOFFSETTO:-0500
TZNAME:EST
DTSTART:20271107T060000
END:STANDARD
END:VTIMEZONE
BEGIN:VEVENT
DTSTART;TZID=America/New_York:20260117T100000
DTEND;TZID=America/New_York:20260117T113000
DTSTAMP:20260423T204457
CREATED:20251222T161953Z
LAST-MODIFIED:20260114T011504Z
UID:1444-1768644000-1768649400@thriftyconnections.com
SUMMARY:Make Your Own Rosary\, Prayer Beads\, or Meditation Beads $25.00
DESCRIPTION:Saturday January 17th  10:00- 11:30\nMake Your Own Rosary\, Prayer Beads\, or Meditation Beads $25.00\nIn this hands-on workshop\, participants are invited to create their own beaded strand—whether you call it a rosary\, prayer beads\, meditation beads\, or mantra beads. This class honors all spiritual paths and traditions\, as well as those who simply enjoy mindful making with intention. \nUsing a variety of beads\, beading wire\, and repurposed broken jewelry\, you’ll design a piece that reflects your personal beliefs\, practices\, memories\, or intentions. You’re welcome to explore the shared charms provided\, or bring a charm\, bead\, or small object that holds special meaning for you. \nNo prior beading experience is necessary but finger and hand dexterity is needed. You’ll be working with small beads and the use of tools. \nYou’ll leave with a one-of-a-kind strand infused with meaning\, ready to be used for prayer\, meditation\, mindfulness\, or display. \nAges 16+
URL:https://thriftyconnections.com/event/make-your-own-rosary-prayer-beads-or-meditation-beads-25-00/
LOCATION:Thrifty Connections\, 158 Lafayette Street\, Schenectady\, NY\, 12305\, United States
ATTACH;FMTTYPE=image/heic:https://thriftyconnections.com/wp-content/uploads/2025/12/IMG_2205.jpg
ORGANIZER;CN="Rose":MAILTO:contact@thriftyconnections.com
END:VEVENT
BEGIN:VEVENT
DTSTART;TZID=America/New_York:20260117T130000
DTEND;TZID=America/New_York:20260117T150000
DTSTAMP:20260423T204457
CREATED:20251228T150001Z
LAST-MODIFIED:20260107T000013Z
UID:1479-1768654800-1768662000@thriftyconnections.com
SUMMARY:Hygge & Harmony: A DIY Spa & Wellness Workshop
DESCRIPTION:Saturday January 17th 1:00pm-3:00pm  $20.00  \nHygge & Harmony: A DIY Spa & Wellness Workshop \nGive yourself the ultimate gift of self-care this season. We invite you to lean into the comforting spirit of Hygge and join us for a deeply nourishing adults only DIY spa-themed workshop designed to renew your mind\, body\, and spirit. \nThe afternoon will begin by centering ourselves with a soothing guided meditation\, creating a space of tranquility. We will then spend time reflecting on the 8 dimensions of wellness (physical\, emotional\, intellectual\, spiritual\, social\, environmental\, occupational\, and financial) to set meaningful intentions for supporting your personal well-being. \nThe second half of the workshop is dedicated to creative self-indulgence! You will craft your own luxurious\, all-natural spa essentials to take home: \n\nCustom Salt Scrub: Blend natural salts and essential oils for a refreshing exfoliant.\nApothecary Bath Tea: Create a calming mix of botanicals for a relaxing soak.\nA satchel of organic home grown tea.\n\nThis workshop is intentionally organized for adults. Ticket holders must be at least 18+ older to participate. 
URL:https://thriftyconnections.com/event/hygge-harmony-a-diy-spa-wellness-workshop/
LOCATION:NY
ATTACH;FMTTYPE=image/jpeg:https://thriftyconnections.com/wp-content/uploads/2025/12/unnamed-25.jpg
END:VEVENT
END:VCALENDAR