BEGIN:VCALENDAR
VERSION:2.0
PRODID:-//Thrifty Connections - ECPv6.15.20//NONSGML v1.0//EN
CALSCALE:GREGORIAN
METHOD:PUBLISH
X-WR-CALNAME:Thrifty Connections
X-ORIGINAL-URL:https://thriftyconnections.com
X-WR-CALDESC:Events for Thrifty Connections
REFRESH-INTERVAL;VALUE=DURATION:PT1H
X-Robots-Tag:noindex
X-PUBLISHED-TTL:PT1H
BEGIN:VTIMEZONE
TZID:America/New_York
BEGIN:DAYLIGHT
TZOFFSETFROM:-0500
TZOFFSETTO:-0400
TZNAME:EDT
DTSTART:20250309T070000
END:DAYLIGHT
BEGIN:STANDARD
TZOFFSETFROM:-0400
TZOFFSETTO:-0500
TZNAME:EST
DTSTART:20251102T060000
END:STANDARD
BEGIN:DAYLIGHT
TZOFFSETFROM:-0500
TZOFFSETTO:-0400
TZNAME:EDT
DTSTART:20260308T070000
END:DAYLIGHT
BEGIN:STANDARD
TZOFFSETFROM:-0400
TZOFFSETTO:-0500
TZNAME:EST
DTSTART:20261101T060000
END:STANDARD
BEGIN:DAYLIGHT
TZOFFSETFROM:-0500
TZOFFSETTO:-0400
TZNAME:EDT
DTSTART:20270314T070000
END:DAYLIGHT
BEGIN:STANDARD
TZOFFSETFROM:-0400
TZOFFSETTO:-0500
TZNAME:EST
DTSTART:20271107T060000
END:STANDARD
END:VTIMEZONE
BEGIN:VEVENT
DTSTART;TZID=America/New_York:20260115T180000
DTEND;TZID=America/New_York:20260115T191500
DTSTAMP:20260425T063300
CREATED:20251224T201937Z
LAST-MODIFIED:20251224T201937Z
UID:1472-1768500000-1768504500@thriftyconnections.com
SUMMARY:Listen & Create for the Spiritually Curious
DESCRIPTION:Thursday January 15th 6:00-7:15\nListen & Create for the Spiritually Curious $15.00\nThis class is a relaxed\, reflective experience that blends listening\, creativity\, and curiosity. Together\, we will listen to interviews\, podcasts\, or lectures featuring individuals who have experienced a Near-Death Experience (NDE)\, spiritual awakening\, or who share insights related to personal growth\, self-help\, and spiritual exploration. \nWhile listening\, participants will color mandala-style coloring pages\, allowing the hands to stay engaged while the mind opens to new ideas.  \nThis class is designed for the spiritually curious: those who enjoy exploring a wide variety of perspectives\, experiences\, and belief systems with an open mind and a respectful heart. The focus is on listening\, reflection\, and personal meaning rather than debate or persuasion. \nBecause the content draws from many spiritual and philosophical viewpoints\, this class may not be the best fit for those who prefer to engage only within a single faith or belief framework. Instead\, it welcomes those who enjoy learning from diverse experiences and discovering what resonates with them personally. \nCome as you are\, color\, listen\, and explore.
URL:https://thriftyconnections.com/event/listen-create-for-the-spiritually-curious/
LOCATION:Thrifty Connections\, 158 Lafayette Street\, Schenectady\, NY\, 12305\, United States
ATTACH;FMTTYPE=image/heic:https://thriftyconnections.com/wp-content/uploads/2025/08/IMG_6331.jpg
ORGANIZER;CN="Rose":MAILTO:contact@thriftyconnections.com
END:VEVENT
END:VCALENDAR