BEGIN:VCALENDAR
VERSION:2.0
PRODID:-//Thrifty Connections - ECPv6.15.20//NONSGML v1.0//EN
CALSCALE:GREGORIAN
METHOD:PUBLISH
X-WR-CALNAME:Thrifty Connections
X-ORIGINAL-URL:https://thriftyconnections.com
X-WR-CALDESC:Events for Thrifty Connections
REFRESH-INTERVAL;VALUE=DURATION:PT1H
X-Robots-Tag:noindex
X-PUBLISHED-TTL:PT1H
BEGIN:VTIMEZONE
TZID:America/New_York
BEGIN:DAYLIGHT
TZOFFSETFROM:-0500
TZOFFSETTO:-0400
TZNAME:EDT
DTSTART:20240310T070000
END:DAYLIGHT
BEGIN:STANDARD
TZOFFSETFROM:-0400
TZOFFSETTO:-0500
TZNAME:EST
DTSTART:20241103T060000
END:STANDARD
BEGIN:DAYLIGHT
TZOFFSETFROM:-0500
TZOFFSETTO:-0400
TZNAME:EDT
DTSTART:20250309T070000
END:DAYLIGHT
BEGIN:STANDARD
TZOFFSETFROM:-0400
TZOFFSETTO:-0500
TZNAME:EST
DTSTART:20251102T060000
END:STANDARD
BEGIN:DAYLIGHT
TZOFFSETFROM:-0500
TZOFFSETTO:-0400
TZNAME:EDT
DTSTART:20260308T070000
END:DAYLIGHT
BEGIN:STANDARD
TZOFFSETFROM:-0400
TZOFFSETTO:-0500
TZNAME:EST
DTSTART:20261101T060000
END:STANDARD
END:VTIMEZONE
BEGIN:VEVENT
DTSTART;TZID=America/New_York:20251122T100000
DTEND;TZID=America/New_York:20251122T120000
DTSTAMP:20260423T232120
CREATED:20251031T223301Z
LAST-MODIFIED:20251121T180836Z
UID:1071-1763805600-1763812800@thriftyconnections.com
SUMMARY:25 Days of Nostalgia: Personalized Advent Calendar Workshop
DESCRIPTION:Saturday November 22nd 10:00am-12:00pm \n25 Days of Nostalgia: Personalized Advent Calendar Workshop \nIf you’re looking for an artistic & reflective way to truly connect to the magic of the holiday season this year\, join us to create a one-of-a-kind personalized Advent Calendar! In this inspiring mixed-media workshop\, you will tap into your own history\, reflecting on cherished holiday activities and past times. You will design and assemble 25 personalized Advent cards using a curated collection of beautiful vintage cards and scrapbooking materials. \nThis is more than a craft; it’s a creative way to ensure your season is filled with balance. You’ll mindfully include activities on your cards that are both festive and fun (like caroling or baking cookies) and simple\, relaxing reminders to slow down and enjoy the quiet pleasures (like watching a classic movie or reading a book by the fire).We’ll explore various ways to display your finished pieces\, whether you string them up like a tree on twinkle lights or affix them to a holiday backdrop. Leave with a beautiful\, functional countdown calendar ready to be enjoyed all season long!
URL:https://thriftyconnections.com/event/25-days-of-nostalgia-personalized-advent-calendar-workshop-2/
LOCATION:Thrifty Connections\, 158 Lafayette Street\, Schenectady\, NY\, 12305\, United States
ATTACH;FMTTYPE=image/jpeg:https://thriftyconnections.com/wp-content/uploads/2025/10/IMG_9274.jpeg
END:VEVENT
BEGIN:VEVENT
DTSTART;TZID=America/New_York:20251122T130000
DTEND;TZID=America/New_York:20251122T150000
DTSTAMP:20260423T232120
CREATED:20251031T144907Z
LAST-MODIFIED:20251122T132935Z
UID:1056-1763816400-1763823600@thriftyconnections.com
SUMMARY:Holiday Scrap Fabric Garland Workshop
DESCRIPTION: Saturday November 22nd 1:00pm -3:00pm\n  \nHoliday Scrap Fabric Garland Workshop\nJoin us for a cozy and creative class where we’ll turn leftover fabric scraps into a beautiful holiday garland! In this hands-on workshop\, you’ll learn how to wrap fabric around lightweight balls and string them together to make a one-of-a-kind garland — perfect for decorating your tree\, mantle\, or doorway. \nWe’ll provide all the materials you need (but feel free to bring your own favorite fabric bits to personalize your piece). This class is great for all skill levels — no sewing experience required! \n✨ You’ll learn: \n\nHow to prepare and wrap fabric scraps for a polished look\nHow to assemble and finish your garland for display or gifting\n\nEnjoy holiday music\, warm drinks\, and a relaxed creative atmosphere while crafting something joyful for the season.
URL:https://thriftyconnections.com/event/holiday-scrap-fabric-garland-workshop/
LOCATION:Thrifty Connections\, 158 Lafayette Street\, Schenectady\, NY\, 12305\, United States
ATTACH;FMTTYPE=image/jpeg:https://thriftyconnections.com/wp-content/uploads/2025/10/IMG_0883.jpeg
ORGANIZER;CN="Rose":MAILTO:contact@thriftyconnections.com
END:VEVENT
END:VCALENDAR