BEGIN:VCALENDAR
VERSION:2.0
PRODID:-//Thrifty Connections - ECPv6.15.20//NONSGML v1.0//EN
CALSCALE:GREGORIAN
METHOD:PUBLISH
X-ORIGINAL-URL:https://thriftyconnections.com
X-WR-CALDESC:Events for Thrifty Connections
REFRESH-INTERVAL;VALUE=DURATION:PT1H
X-Robots-Tag:noindex
X-PUBLISHED-TTL:PT1H
BEGIN:VTIMEZONE
TZID:America/New_York
BEGIN:DAYLIGHT
TZOFFSETFROM:-0500
TZOFFSETTO:-0400
TZNAME:EDT
DTSTART:20240310T070000
END:DAYLIGHT
BEGIN:STANDARD
TZOFFSETFROM:-0400
TZOFFSETTO:-0500
TZNAME:EST
DTSTART:20241103T060000
END:STANDARD
BEGIN:DAYLIGHT
TZOFFSETFROM:-0500
TZOFFSETTO:-0400
TZNAME:EDT
DTSTART:20250309T070000
END:DAYLIGHT
BEGIN:STANDARD
TZOFFSETFROM:-0400
TZOFFSETTO:-0500
TZNAME:EST
DTSTART:20251102T060000
END:STANDARD
BEGIN:DAYLIGHT
TZOFFSETFROM:-0500
TZOFFSETTO:-0400
TZNAME:EDT
DTSTART:20260308T070000
END:DAYLIGHT
BEGIN:STANDARD
TZOFFSETFROM:-0400
TZOFFSETTO:-0500
TZNAME:EST
DTSTART:20261101T060000
END:STANDARD
END:VTIMEZONE
BEGIN:VEVENT
DTSTART;TZID=America/New_York:20251120T120000
DTEND;TZID=America/New_York:20251120T130000
DTSTAMP:20260423T232842
CREATED:20251031T221838Z
LAST-MODIFIED:20251119T201203Z
UID:1063-1763640000-1763643600@thriftyconnections.com
SUMMARY:Sunbursts & Sentiments: A Gratitude Workshop
DESCRIPTION:Thursday November 20th 12:00pm-1:00pm $10.00 \nSunbursts & Sentiments: A Gratitude Workshop \nJoin us for a truly mindful and meaningful experience designed to tap into the true spirit of Thanksgiving. \nIn this reflective and creative workshop\, you will create a personalized gratitude sunburst that visually captures all the reasons and ways you are thankful this holiday season. After this creative reflection\, you’ll put pen to paper and write a heartfelt handwritten thank you card\, transforming your inner gratitude into an external act of love for someone in your life. \nThis class is a perfect opportunity to slow down\, lean into gratitude\, and prepare your heart for the season. All materials provided. \n 
URL:https://thriftyconnections.com/event/sunbursts-sentiments-a-gratitude-workshop/
LOCATION:Thrifty Connections\, 158 Lafayette Street\, Schenectady\, NY\, 12305\, United States
ATTACH;FMTTYPE=image/jpeg:https://thriftyconnections.com/wp-content/uploads/2025/10/IMG_9011.jpeg
END:VEVENT
BEGIN:VEVENT
DTSTART;TZID=America/New_York:20251120T180000
DTEND;TZID=America/New_York:20251120T200000
DTSTAMP:20260423T232842
CREATED:20251113T123841Z
LAST-MODIFIED:20251113T123841Z
UID:1195-1763661600-1763668800@thriftyconnections.com
SUMMARY:The Art of Book Folding for Beginners   Contemplative
DESCRIPTION:The Art of Book Folding for Beginners \n  \nDiscover the meditative art of book folding! Using a repurposed book\, you’ll learn the techniques to measure\, mark\, and fold pages to create a stunning\, three-dimensional decorative piece for your home or office. This class is a peaceful\, contemplative escape where creativity meets calm. No experience needed. \nAll classes at Thrifty Connections are intended for adults and suitable for individuals 16+. \n* Contemplative Classes are intentionally crafted with the ambience in mind.\nCONTEMPLATIVE CLASSES= Quiet & Meditative class environment. Some classes may either begin or end with a guided meditation or a short guided breath work exercise and will be an opportunity to quiet the mind & body and allow the creative process to reconnect you to yourself. A great opportunity to be amongst others while remaining within yourself.  Connecting in quietness! \n  \n 
URL:https://thriftyconnections.com/event/the-art-of-book-folding-for-beginners-contemplative-2/
LOCATION:Thrifty Connections\, 158 Lafayette Street\, Schenectady\, NY\, 12305\, United States
ATTACH;FMTTYPE=image/jpeg:https://thriftyconnections.com/wp-content/uploads/2025/11/IMG_9390.jpeg
END:VEVENT
END:VCALENDAR