BEGIN:VCALENDAR
VERSION:2.0
PRODID:-//Thrifty Connections - ECPv6.15.20//NONSGML v1.0//EN
CALSCALE:GREGORIAN
METHOD:PUBLISH
X-ORIGINAL-URL:https://thriftyconnections.com
X-WR-CALDESC:Events for Thrifty Connections
REFRESH-INTERVAL;VALUE=DURATION:PT1H
X-Robots-Tag:noindex
X-PUBLISHED-TTL:PT1H
BEGIN:VTIMEZONE
TZID:America/New_York
BEGIN:DAYLIGHT
TZOFFSETFROM:-0500
TZOFFSETTO:-0400
TZNAME:EDT
DTSTART:20240310T070000
END:DAYLIGHT
BEGIN:STANDARD
TZOFFSETFROM:-0400
TZOFFSETTO:-0500
TZNAME:EST
DTSTART:20241103T060000
END:STANDARD
BEGIN:DAYLIGHT
TZOFFSETFROM:-0500
TZOFFSETTO:-0400
TZNAME:EDT
DTSTART:20250309T070000
END:DAYLIGHT
BEGIN:STANDARD
TZOFFSETFROM:-0400
TZOFFSETTO:-0500
TZNAME:EST
DTSTART:20251102T060000
END:STANDARD
BEGIN:DAYLIGHT
TZOFFSETFROM:-0500
TZOFFSETTO:-0400
TZNAME:EDT
DTSTART:20260308T070000
END:DAYLIGHT
BEGIN:STANDARD
TZOFFSETFROM:-0400
TZOFFSETTO:-0500
TZNAME:EST
DTSTART:20261101T060000
END:STANDARD
END:VTIMEZONE
BEGIN:VEVENT
DTSTART;TZID=America/New_York:20251114T130000
DTEND;TZID=America/New_York:20251114T150000
DTSTAMP:20260424T005415
CREATED:20251029T014315Z
LAST-MODIFIED:20251113T163340Z
UID:1012-1763125200-1763132400@thriftyconnections.com
SUMMARY:Whimsical Woodland Creatures
DESCRIPTION:Whimsical Woodland Creatures \nFriday November 14th 1:00-3:00 \nStep into the tiny world of imagination! In this whimsical workshop\, we’ll transform humble walnut shells into delightful little woodland creatures. Using found materials and natural elements you’ll learn to give new life to nature’s castoffs and create a one-of-a-kind miniature sculpture. \nNo experience needed — just curiosity and a love of small wonders. You’ll leave with your own walnut-shell creature and a smile that’s just as charming. \nAll classes at Thrifty Connections are intended for adults and suitable for individuals 16+
URL:https://thriftyconnections.com/event/whimsical-woodland-creatures/
LOCATION:Thrifty Connections\, 158 Lafayette Street\, Schenectady\, NY\, 12305\, United States
ATTACH;FMTTYPE=image/jpeg:https://thriftyconnections.com/wp-content/uploads/2025/10/IMG_0812-2-1.jpeg
END:VEVENT
BEGIN:VEVENT
DTSTART;TZID=America/New_York:20251114T180000
DTEND;TZID=America/New_York:20251114T191500
DTSTAMP:20260424T005415
CREATED:20251027T200632Z
LAST-MODIFIED:20251109T221558Z
UID:966-1763143200-1763147700@thriftyconnections.com
SUMMARY:Teacup Wonderlands
DESCRIPTION:Friday November 14th 6:00-7:15 \nTeacup Wonderlands $20.00 \n  \nCreate a tiny world of holiday cheer! In this festive workshop\, we’ll build mini holiday scenes inside teacups\, using greenery\, small ornaments\, and other seasonal touches. Each teacup becomes its own little winter wonderland — perfect for decorating your home or giving as a handmade gift. \nThis is a relaxed\, hands-on class where you can play with color\, texture\, and imagination. No experience needed — just come ready to create and enjoy a bit of holiday magic. \nHot Cocoa Bar and holiday tunes included! \nAll materials provided. \nAll classes at Thrifty Connections are intended for adults and suitable for individuals 16+.
URL:https://thriftyconnections.com/event/teacup-wonderlands/
LOCATION:Thrifty Connections\, 158 Lafayette Street\, Schenectady\, NY\, 12305\, United States
ATTACH;FMTTYPE=image/jpeg:https://thriftyconnections.com/wp-content/uploads/2025/10/IMG_0500.jpeg
ORGANIZER;CN="Rose":MAILTO:contact@thriftyconnections.com
END:VEVENT
END:VCALENDAR