BEGIN:VCALENDAR
VERSION:2.0
PRODID:-//Thrifty Connections - ECPv6.15.20//NONSGML v1.0//EN
CALSCALE:GREGORIAN
METHOD:PUBLISH
X-ORIGINAL-URL:https://thriftyconnections.com
X-WR-CALDESC:Events for Thrifty Connections
REFRESH-INTERVAL;VALUE=DURATION:PT1H
X-Robots-Tag:noindex
X-PUBLISHED-TTL:PT1H
BEGIN:VTIMEZONE
TZID:America/New_York
BEGIN:DAYLIGHT
TZOFFSETFROM:-0500
TZOFFSETTO:-0400
TZNAME:EDT
DTSTART:20240310T070000
END:DAYLIGHT
BEGIN:STANDARD
TZOFFSETFROM:-0400
TZOFFSETTO:-0500
TZNAME:EST
DTSTART:20241103T060000
END:STANDARD
BEGIN:DAYLIGHT
TZOFFSETFROM:-0500
TZOFFSETTO:-0400
TZNAME:EDT
DTSTART:20250309T070000
END:DAYLIGHT
BEGIN:STANDARD
TZOFFSETFROM:-0400
TZOFFSETTO:-0500
TZNAME:EST
DTSTART:20251102T060000
END:STANDARD
BEGIN:DAYLIGHT
TZOFFSETFROM:-0500
TZOFFSETTO:-0400
TZNAME:EDT
DTSTART:20260308T070000
END:DAYLIGHT
BEGIN:STANDARD
TZOFFSETFROM:-0400
TZOFFSETTO:-0500
TZNAME:EST
DTSTART:20261101T060000
END:STANDARD
END:VTIMEZONE
BEGIN:VEVENT
DTSTART;TZID=America/New_York:20251113T120000
DTEND;TZID=America/New_York:20251113T130000
DTSTAMP:20260424T023807
CREATED:20251103T025549Z
LAST-MODIFIED:20251103T234916Z
UID:1103-1763035200-1763038800@thriftyconnections.com
SUMMARY:Upcycled Gift Tags
DESCRIPTION:Turn scraps into something special! Learn how to transform old cards\, packaging\, and paper into beautiful gift tags. We’ll cover simple design\, cutting\, and decorating techniques to make each tag unique. Perfect for all skill levels — and a fun way to gift your creativity!
URL:https://thriftyconnections.com/event/upcycled-gift-tags/
LOCATION:Thrifty Connections\, 158 Lafayette Street\, Schenectady\, NY\, 12305\, United States
ATTACH;FMTTYPE=image/jpeg:https://thriftyconnections.com/wp-content/uploads/2025/11/IMG_0919.jpeg
ORGANIZER;CN="Rose":MAILTO:contact@thriftyconnections.com
END:VEVENT
BEGIN:VEVENT
DTSTART;TZID=America/New_York:20251113T180000
DTEND;TZID=America/New_York:20251113T193000
DTSTAMP:20260424T023807
CREATED:20251027T194854Z
LAST-MODIFIED:20251027T194909Z
UID:963-1763056800-1763062200@thriftyconnections.com
SUMMARY:Tiny Bird Book Contemplative
DESCRIPTION:Thursday November 13th 6:00- 7:30pm $15.00\nTiny Bird Book Contemplative\nCreate a tiny accordion-style book filled with beautiful bird images and thoughtful quotes. In this quiet\, hands-on class\, we’ll use simple collage techniques to make a small folded book.\nAs you cut\, arrange\, and glue\, you’ll have time to slow down\, enjoy the images\, and reflect on the spirit of birds — lightness\, freedom\, and calm. \nWhat we’ll do: \n\nMake a small accordion-fold book\nChoose and collage bird images and quotes\nCreate a personal\, contemplative art piece to take home or to give as a gift\n\nAll materials provided. No experience needed — just bring your curiosity and love of birds. \n  \nAll classes at Thrifty Connections are intended for adults and suitable for individuals 16+. \n* Contemplative Classes are intentionally crafted with the ambience in mind.\nCONTEMPLATIVE CLASSES= Quiet & Meditative class environment. Some classes may either begin or end with a guided meditation or a short guided breath work exercise and will be an opportunity to quiet the mind & body and allow the creative process to reconnect you to yourself. A great opportunity to be amongst others while remaining within yourself.  Connecting in quietness!
URL:https://thriftyconnections.com/event/tiny-bird-book-contemplative-2/
LOCATION:Thrifty Connections\, 158 Lafayette Street\, Schenectady\, NY\, 12305\, United States
ATTACH;FMTTYPE=image/heic:https://thriftyconnections.com/wp-content/uploads/2025/10/IMG_0799.jpg
ORGANIZER;CN="Rose":MAILTO:contact@thriftyconnections.com
END:VEVENT
END:VCALENDAR