BEGIN:VCALENDAR
VERSION:2.0
PRODID:-//Thrifty Connections - ECPv6.15.20//NONSGML v1.0//EN
CALSCALE:GREGORIAN
METHOD:PUBLISH
X-WR-CALNAME:Thrifty Connections
X-ORIGINAL-URL:https://thriftyconnections.com
X-WR-CALDESC:Events for Thrifty Connections
REFRESH-INTERVAL;VALUE=DURATION:PT1H
X-Robots-Tag:noindex
X-PUBLISHED-TTL:PT1H
BEGIN:VTIMEZONE
TZID:America/New_York
BEGIN:DAYLIGHT
TZOFFSETFROM:-0500
TZOFFSETTO:-0400
TZNAME:EDT
DTSTART:20240310T070000
END:DAYLIGHT
BEGIN:STANDARD
TZOFFSETFROM:-0400
TZOFFSETTO:-0500
TZNAME:EST
DTSTART:20241103T060000
END:STANDARD
BEGIN:DAYLIGHT
TZOFFSETFROM:-0500
TZOFFSETTO:-0400
TZNAME:EDT
DTSTART:20250309T070000
END:DAYLIGHT
BEGIN:STANDARD
TZOFFSETFROM:-0400
TZOFFSETTO:-0500
TZNAME:EST
DTSTART:20251102T060000
END:STANDARD
BEGIN:DAYLIGHT
TZOFFSETFROM:-0500
TZOFFSETTO:-0400
TZNAME:EDT
DTSTART:20260308T070000
END:DAYLIGHT
BEGIN:STANDARD
TZOFFSETFROM:-0400
TZOFFSETTO:-0500
TZNAME:EST
DTSTART:20261101T060000
END:STANDARD
END:VTIMEZONE
BEGIN:VEVENT
DTSTART;TZID=America/New_York:20251108T100000
DTEND;TZID=America/New_York:20251108T120000
DTSTAMP:20260423T232159
CREATED:20251027T175633Z
LAST-MODIFIED:20251030T014843Z
UID:954-1762596000-1762603200@thriftyconnections.com
SUMMARY:Mindful Making:DIY Decoupage Centerpiece
DESCRIPTION:Saturday November 8th 10:00am-12:00pm $25.00 \nMindful Making:DIY Decoupage Centerpiece \nElevate your holiday entertaining with a beautiful\, handmade centerpiece! We’ll begin with a short guided meditation to help you step away from your to-do list and lean into a renewing and contemplative creative process. Once focused\, you’ll learn the techniques of decoupage to create two stunning\, autumn-themed pieces: \n\nA beautiful serving tray\nA coordinating decorative vase\n\nFinally\, you will complete your decor by crafting a flower arrangement to fill your new vase. This complete set is the perfect addition to your Thanksgiving table or a heartfelt\, handmade gift! \nPerfect For: Anyone seeking a mindful break\, a relaxing craft\, and a beautiful piece of holiday decor. No prior experience is required!
URL:https://thriftyconnections.com/event/mindful-makingdiy-decoupage-centerpiece/
LOCATION:Thrifty Connections\, 158 Lafayette Street\, Schenectady\, NY\, 12305\, United States
ATTACH;FMTTYPE=image/jpeg:https://thriftyconnections.com/wp-content/uploads/2025/10/IMG_0867.jpeg
END:VEVENT
BEGIN:VEVENT
DTSTART;TZID=America/New_York:20251108T130000
DTEND;TZID=America/New_York:20251108T150000
DTSTAMP:20260423T232159
CREATED:20251027T180712Z
LAST-MODIFIED:20251027T180712Z
UID:957-1762606800-1762614000@thriftyconnections.com
SUMMARY:Embroidered Beanie 
DESCRIPTION:Saturday November 8th 1:00pm- 3:00pm \nEmbroidered Beanie  $30.00 \n  \nAdd a touch of handmade charm to your winter wear! In this cozy class\, we’ll embroider a few simple flowers along the brim of a beanie. Embroidery takes a bit of patience and good hand–eye coordination\, but the process is calming and rewarding. \n  \nAll classes at Thrifty Connections are intended for adults and suitable for individuals 16+. \n 
URL:https://thriftyconnections.com/event/embroidered-beanie/
LOCATION:Thrifty Connections\, 158 Lafayette Street\, Schenectady\, NY\, 12305\, United States
ATTACH;FMTTYPE=image/heic:https://thriftyconnections.com/wp-content/uploads/2025/10/IMG_0502.jpg
ORGANIZER;CN="Rose":MAILTO:contact@thriftyconnections.com
END:VEVENT
END:VCALENDAR