BEGIN:VCALENDAR
VERSION:2.0
PRODID:-//Thrifty Connections - ECPv6.15.20//NONSGML v1.0//EN
CALSCALE:GREGORIAN
METHOD:PUBLISH
X-ORIGINAL-URL:https://thriftyconnections.com
X-WR-CALDESC:Events for Thrifty Connections
REFRESH-INTERVAL;VALUE=DURATION:PT1H
X-Robots-Tag:noindex
X-PUBLISHED-TTL:PT1H
BEGIN:VTIMEZONE
TZID:America/New_York
BEGIN:DAYLIGHT
TZOFFSETFROM:-0500
TZOFFSETTO:-0400
TZNAME:EDT
DTSTART:20240310T070000
END:DAYLIGHT
BEGIN:STANDARD
TZOFFSETFROM:-0400
TZOFFSETTO:-0500
TZNAME:EST
DTSTART:20241103T060000
END:STANDARD
BEGIN:DAYLIGHT
TZOFFSETFROM:-0500
TZOFFSETTO:-0400
TZNAME:EDT
DTSTART:20250309T070000
END:DAYLIGHT
BEGIN:STANDARD
TZOFFSETFROM:-0400
TZOFFSETTO:-0500
TZNAME:EST
DTSTART:20251102T060000
END:STANDARD
BEGIN:DAYLIGHT
TZOFFSETFROM:-0500
TZOFFSETTO:-0400
TZNAME:EDT
DTSTART:20260308T070000
END:DAYLIGHT
BEGIN:STANDARD
TZOFFSETFROM:-0400
TZOFFSETTO:-0500
TZNAME:EST
DTSTART:20261101T060000
END:STANDARD
END:VTIMEZONE
BEGIN:VEVENT
DTSTART;TZID=America/New_York:20251107T130000
DTEND;TZID=America/New_York:20251107T143000
DTSTAMP:20260423T232741
CREATED:20251027T175059Z
LAST-MODIFIED:20251107T001844Z
UID:947-1762520400-1762525800@thriftyconnections.com
SUMMARY:Tiny Bird Book Contemplative
DESCRIPTION:Friday November 7th 1:00- 2:30pm $15.00\nTiny Bird Book Contemplative\nCreate a tiny accordion-style book filled with beautiful bird images and thoughtful quotes. In this quiet\, hands-on class\, we’ll use simple collage techniques to make a small folded book.\nAs you cut\, arrange\, and glue\, you’ll have time to slow down\, enjoy the images\, and reflect on the spirit of birds — lightness\, freedom\, and calm. \nWhat we’ll do: \n\nMake a small accordion-fold book\nChoose and collage bird images and quotes\nCreate a personal\, contemplative art piece to take home or to give as a gift\n\nAll materials provided. No experience needed — just bring your curiosity and love of birds. \n  \nAll classes at Thrifty Connections are intended for adults and suitable for individuals 16+. \n* Contemplative Classes are intentionally crafted with the ambience in mind.\nCONTEMPLATIVE CLASSES= Quiet & Meditative class environment. Some classes may either begin or end with a guided meditation or a short guided breath work exercise and will be an opportunity to quiet the mind & body and allow the creative process to reconnect you to yourself. A great opportunity to be amongst others while remaining within yourself.  Connecting in quietness!
URL:https://thriftyconnections.com/event/tiny-bird-book-contemplative/
LOCATION:Thrifty Connections\, 158 Lafayette Street\, Schenectady\, NY\, 12305\, United States
ATTACH;FMTTYPE=image/heic:https://thriftyconnections.com/wp-content/uploads/2025/10/IMG_0799.jpg
ORGANIZER;CN="Rose":MAILTO:contact@thriftyconnections.com
END:VEVENT
BEGIN:VEVENT
DTSTART;TZID=America/New_York:20251107T180000
DTEND;TZID=America/New_York:20251107T193000
DTSTAMP:20260423T232741
CREATED:20251027T175425Z
LAST-MODIFIED:20251027T175425Z
UID:950-1762538400-1762543800@thriftyconnections.com
SUMMARY:Upcycled Painted Button/Puzzle Trees
DESCRIPTION:Friday November 7th 6:00-7:30pm $20.00 \nUpcycled Painted Button/Puzzle Trees \n  \nJoin us for an upbeat and creative session where you’ll make your own Autumn Themed Tree Art! You’ll paint a colorful backdrop and then embellish it with autumn-colored buttons or puzzle pieces for a fun\, 3D effect. It’s the perfect connective craft to get your home ready for the holidays. Leave with a unique piece of festive decor and a smile! \n  \nAll classes at Thrifty Connections are intended for adults and suitable for individuals 16+.
URL:https://thriftyconnections.com/event/upcycled-painted-button-puzzle-trees/
LOCATION:Thrifty Connections\, 158 Lafayette Street\, Schenectady\, NY\, 12305\, United States
ATTACH;FMTTYPE=image/jpeg:https://thriftyconnections.com/wp-content/uploads/2025/10/buttontree.jpg
END:VEVENT
END:VCALENDAR