BEGIN:VCALENDAR
VERSION:2.0
PRODID:-//Thrifty Connections - ECPv6.15.20//NONSGML v1.0//EN
CALSCALE:GREGORIAN
METHOD:PUBLISH
X-WR-CALNAME:Thrifty Connections
X-ORIGINAL-URL:https://thriftyconnections.com
X-WR-CALDESC:Events for Thrifty Connections
REFRESH-INTERVAL;VALUE=DURATION:PT1H
X-Robots-Tag:noindex
X-PUBLISHED-TTL:PT1H
BEGIN:VTIMEZONE
TZID:America/New_York
BEGIN:DAYLIGHT
TZOFFSETFROM:-0500
TZOFFSETTO:-0400
TZNAME:EDT
DTSTART:20240310T070000
END:DAYLIGHT
BEGIN:STANDARD
TZOFFSETFROM:-0400
TZOFFSETTO:-0500
TZNAME:EST
DTSTART:20241103T060000
END:STANDARD
BEGIN:DAYLIGHT
TZOFFSETFROM:-0500
TZOFFSETTO:-0400
TZNAME:EDT
DTSTART:20250309T070000
END:DAYLIGHT
BEGIN:STANDARD
TZOFFSETFROM:-0400
TZOFFSETTO:-0500
TZNAME:EST
DTSTART:20251102T060000
END:STANDARD
BEGIN:DAYLIGHT
TZOFFSETFROM:-0500
TZOFFSETTO:-0400
TZNAME:EDT
DTSTART:20260308T070000
END:DAYLIGHT
BEGIN:STANDARD
TZOFFSETFROM:-0400
TZOFFSETTO:-0500
TZNAME:EST
DTSTART:20261101T060000
END:STANDARD
END:VTIMEZONE
BEGIN:VEVENT
DTSTART;TZID=America/New_York:20251030T120000
DTEND;TZID=America/New_York:20251030T130000
DTSTAMP:20260423T232157
CREATED:20250915T221742Z
LAST-MODIFIED:20251030T135539Z
UID:751-1761825600-1761829200@thriftyconnections.com
SUMMARY:Altered Deck Contemplative
DESCRIPTION:Altered Deck Contemplative $10.00     \nThursday October 30th 12:00-1:00pm   \nTake your lunch break with us to unwind\, slow down\, and tap into your creative intuition in this peaceful workshop.Transform ordinary playing cards into beautiful\, personal works of art—each one a small canvas for self-expression\, reflection\, and calm. Using simple mixed media techniques—such as collage\, paint\, and stamping—you’ll alter cards into a soothing series of mini art pieces. No artistic experience needed—just bring a curious heart and a willingness to relax and create. This will be a repeating bi-weekly class so you have the option to build your deck throughout the year. You can expect to complete at least 2 cards per class. \n\nAll classes at Thrifty Connections are intended for adults and are suitable for individuals ages 16+\nContemplative classes are intentionally crafted with the ambience in mind. Some classes may either begin or end with a guided meditation or a short guided breath work exercise and will be an opportunity to quiet the mind & body and allow the creative process to reconnect you to yourself. A great opportunity to be amongst others while remaining within yourself. Connecting in quietness!
URL:https://thriftyconnections.com/event/altered-deck-contemplative-2/
LOCATION:Thrifty Connections\, 158 Lafayette Street\, Schenectady\, NY\, 12305\, United States
ATTACH;FMTTYPE=image/heic:https://thriftyconnections.com/wp-content/uploads/2025/08/IMG_8429.jpg
ORGANIZER;CN="Rose":MAILTO:contact@thriftyconnections.com
END:VEVENT
BEGIN:VEVENT
DTSTART;TZID=America/New_York:20251030T180000
DTEND;TZID=America/New_York:20251030T200000
DTSTAMP:20260423T232157
CREATED:20250915T223034Z
LAST-MODIFIED:20251029T014420Z
UID:754-1761847200-1761854400@thriftyconnections.com
SUMMARY:Mini Spider Web Embroidery
DESCRIPTION:Tiny Webs & Dew Drops: Mini Spider Web Embroidery $30.00A delicate and dreamy Halloween-inspired stitching project \nThursday October 30th 6:00pm-8:00pm \nIn this relaxing embroidery workshop\, we’ll stitch miniature spider webs onto fabric and decorate them with tiny glass beads to mimic sparkling morning dew. This is a perfect project for beginners or seasoned stitchers who want to try something a little magical and a little spooky — just in time for the season. \nYou’ll learn how to create a simple web design using embroidery floss\, then embellish it with small beads for a subtle shimmer that catches the light. These mini hoops make beautiful fall decorations or thoughtful handmade gifts.
URL:https://thriftyconnections.com/event/mini-spider-web-embroidery/
LOCATION:Thrifty Connections\, 158 Lafayette Street\, Schenectady\, NY\, 12305\, United States
ATTACH;FMTTYPE=image/heic:https://thriftyconnections.com/wp-content/uploads/2025/09/IMG_9412.jpg
ORGANIZER;CN="Rose":MAILTO:contact@thriftyconnections.com
END:VEVENT
END:VCALENDAR